Workbook

Sheet Содержание
A2: Содержание
A3: Кабели | C3: Адаптер | E3: Портативные аккумуляторы
A4: Многозарядные кабели | C4: Серия FH (док-станция расширения USB-HUB) | E4: Серия BJ (настоящий стандарт)
A5: Силиконовые кабели (первые в отрасли) | C5: Серия DH (док-станция расширения USB-HUB)
A6: Серия BU (качество, новаторство, индивидуальность) | C6: Серия BV (аудиоадаптер)
A7: Серия BX (высокая соотношение цены и качества) | C7: Серия BUS
A14: Портативные аккумуляторы (UN) | C14: Зарядное устройство (ЕU) | E14: Беспроводная зарядка и настольная подставка
A15: С сертификатом «Опасный багаж» | C15: EU штекер (сертификация CE и RoHS) | E15: держатель с беспроводной зарядкой (Серия BQ )
A16: Неопасные товары | C16: EU штекер（Частная модельная серия） | E16: настольная подставка (Серия BH)
C17: EU штекер | E17: подставка для прямой трансляции (BH/BY series)
A23: Автомобильный держатель | C23: Автомобильные аксессуары | E23: наушники
A24: апвтомобильный держатель с беспроводной зарядкой | C24: Автомобильные аксессуары | E24: Серия BC(Гарнитура BT для одного уха)
A25: Автомобильный держатель | C25: Автомобильное зарядное устройство | E25: Серия BE(Спортивная гарнитура BT)
E26: Серия BO(игровые наушники)
E27: Серия BO（Наушники）
E28: Проводные наушники для iP (для iP интерфейса)
E29: Проводные наушники для Type-C (интерфейс Type-C)
E30: Проводные наушники на 3,5 мм (интерфейс 3,5 мм)
A33: Гарнитура TWS | C33: BT динамик | E33: Аудио Другое
A34: Серия FQ | C34: Cерия BR (Динамики ) | E34: Микропон
A35: Серия BW | E35: Серия BL (аудиокабели)
E36: Анти-потерянное устройство
E37: Автомобильный BT-ресивер
A42: Офис&Игры | C42: Смарт часы | E42: Серия iPhone 17
A43: Серия BG | C43: Серия BD | E43: Закаленное стекло
A51: Пленка из закаленного стекла | C51: Полноэкранное закаленное стекло-пленка | E51: Elephant series закаленное стекло-пленка на заказ
A52: Серия iP 16 | C52: Закаленное стекло-пленка (для iP） | E52: Закаленное стекло-пленка (для iP, Samsung, Huawei и др.)
A53: Серия iP 15 | E53: Серия BF5
A54: Серия iP 14 | E54: Серия BF4
A55: Серия iP 12 | E55: Серия BF3
A56: Серия iP X/11
A60: магазина/Полки
A61: магазина
A62: Полки

Sheet Кабели
A2: Кабели
A3: Наименование | B3: Фото товара | C3: Упаковка | D3: Артикул / штрихкод | E3: Цвет | F3: цена | G3: Количество к заказу | H3: Сумма заказа, ₽ | I3: Вес G.W.(г) | J3: Вес большой коробки (кг) | K3: Рзмер индивидуальной упаковки (см) | L3: Кол-во в средней коробке (шт) | M3: Размер средней коробки (см) | N3: Кол-во в большой коробке (шт) | O3: Размер большой коробки (см) | P3: VOLUME (cbm) | Q3: Описание | R3: Сыллка на фото | S3: Ссылка на видео
A4: Многозарядные кабели
A5: BX72 3-в-1 зарядный кабель (iP+Type-C+Micro) | D5: 6974443384666 | E5: черный | F5: 97.86 | H5: =IF(ISBLANK(G5),"",IF(ISNUMBER(F5),ROUND(F5*G5,2),"Укажите цену")) | I5: 53 | J5: 21.2 | K5: 20.2*7*2 | L5: отсутствует | M5: нет данных | N5: 360 | O5: 63.9*44.8*46.3 | P5: 0.133 | Q5: 1. Длина: 1м (основной кабель 0.8м + суб - кабель 0.2м), вес: 37г 2. Внешний материал: нейлон 3. Материал коннекторов: алюминиевый сплав 4. Сердечник: основной кабель (34/0.1)*2+ суб - кабель (26/0.1)*2 OD3.2мм 5. Максимальный ток 2A 6. Передача данных не поддерживается. | R5: http://hoco.i234.me:8000/sharing/sNZRr3fRn | S5: -
A6: BX71 3-в-1 зарядный кабель (iP+Micro+Type-C) | D6: 6974443384543 | E6: черный | F6: 89.7 | H6: =IF(ISBLANK(G6),"",IF(ISNUMBER(F6),ROUND(F6*G6,2),"Укажите цену")) | I6: 62 | J6: 24.6 | K6: 20.2*7.1*2 | L6: отсутствует | M6: нет данных | N6: 360 | O6: 63.9*44.8*46.3 | P6: 0.133 | Q6: 1. Длина: 1м (основной кабель 0.8 + суб-кабель 0.2), вес: 42г. 2. Внешний материал: PVC. 3. Материал коннектора: PVC. 4. Сердечник: основной кабель (34/0.1)*2, суб-кабель (26/0.1)*2 OD3.5мм. 5. Ток до 2A. 6. Передача данных не поддерживается. | R6: http://hoco.i234.me:8000/sharing/lvPYWc2jK | S6: -
D7: 6974443384550 | E7: белый | F7: 89.7 | H7: =IF(ISBLANK(G7),"",IF(ISNUMBER(F7),ROUND(F7*G7,2),"Укажите цену"))
A9: Силиконовые кабели
A10: BX123 Leya PD30W силиконовый зарядный дата кабель iP | D10: 6941991124174 | E10: черный | F10: 91.33 | H10: =IF(ISBLANK(G10),"",IF(ISNUMBER(F10),ROUND(F10*G10,2),"Укажите цену")) | I10: 36 | J10: 15.2 | K10: 20.2*7.2*2.1 | L10: отсутствует | M10: нет данных | N10: 360 | O10: 63.9*44.8*46.3 | P10: 0.133 | Q10: 1. Длина: 1 м; вес: 25 г 2. Материал оплетки: силикон 3. Материал коннекторов: Силикон 4. Сердечник: (35/0.1) * 2+(10/0.1) * 3 Диаметр 3,8 мм 5. Поддерживает быструю зарядку Apple PD мощностью 30 Вт | R10: http://gofile.me/649X4/YnLPowi3z | S10: -
D11: 6941991124181 | E11: белый | F11: 91.33 | H11: =IF(ISBLANK(G11),"",IF(ISNUMBER(F11),ROUND(F11*G11,2),"Укажите цену"))
A12: BX123 Leya 60W силиконовый зарядный дата кабель C на C | D12: 6941991124235 | E12: черный | F12: 70.13 | H12: =IF(ISBLANK(G12),"",IF(ISNUMBER(F12),ROUND(F12*G12,2),"Укажите цену")) | I12: 36 | J12: 15.3 | K12: 20.2*7.2*2.1 | L12: отсутствует | M12: нет данных | N12: 360 | O12: 63.9*44.8*46.3 | P12: 0.133 | Q12: 1. Длина: 1 м; вес: 25 г 2. Материал оплетки: силикон 3. Материал коннекторов: Силикон 4. Сердечник: (35/0.1) * 2+(10/0.1) * 3 Диаметр 3,8 мм 5. Поддерживает быструю зарядку мощностью 60Вт для ноутбука и тока 3А для телефонов | R12: http://gofile.me/649X4/GpiR1G2df | S12: -
D13: 6941991124242 | E13: белый | F13: 70.13 | H13: =IF(ISBLANK(G13),"",IF(ISNUMBER(F13),ROUND(F13*G13,2),"Укажите цену"))
A14: BX123 Leya силиконовый зарядный дата кабель iP | D14: 6941991124198 | E14: черный | F14: 52.19 | H14: =IF(ISBLANK(G14),"",IF(ISNUMBER(F14),ROUND(F14*G14,2),"Укажите цену")) | I14: 37 | J14: 15.5 | K14: 20.2*7.2*2.1 | L14: отсутствует | M14: нет данных | N14: 360 | O14: 63.9*44.8*46.3 | P14: 0.133 | Q14: 1. Длина: 1 м; вес: 25 г 2. Материал оплетки: силикон 3. Материал коннекторов: Силикон 4. Сердечник: (43/0.08) * 2+(13/0.08) * 2 OD3.8mm 5. Ток до 2.4A | R14: http://gofile.me/649X4/hHleggMEF | S14: -
D15: 6941991124204 | E15: белый | F15: 52.19 | H15: =IF(ISBLANK(G15),"",IF(ISNUMBER(F15),ROUND(F15*G15,2),"Укажите цену"))
A16: BX123 Leya силиконовый зарядный дата кабель Type-C | D16: 6941991124211 | E16: черный | F16: 48.93 | H16: =IF(ISBLANK(G16),"",IF(ISNUMBER(F16),ROUND(F16*G16,2),"Укажите цену")) | I16: 37 | J16: 15.6 | K16: 20.2*7.2*2.1 | L16: отсутствует | M16: нет данных | N16: 360 | O16: 63.9*44.8*46.3 | P16: 0.133 | Q16: 1. Длина: 1 м; вес: 25 г 2. Материал оплетки: силикон 3. Материал коннекторов: Силикон 4. Сердечник: (43/0.08) * 2+(13/0.08) * 2 OD3.8mm 5. Ток до 3A | R16: http://gofile.me/649X4/3w2Zbpruf | S16: -
D17: 6941991124228 | E17: белый | F17: 48.93 | H17: =IF(ISBLANK(G17),"",IF(ISNUMBER(F17),ROUND(F17*G17,2),"Укажите цену"))
A18: BX115 Lotto PD силиконовый зарядный дата кабель iP | D18: 6941991119613 | E18: белый | F18: 110.9 | H18: =IF(ISBLANK(G18),"",IF(ISNUMBER(F18),ROUND(F18*G18,2),"Укажите цену")) | I18: 42 | J18: 17.3 | K18: 20.2*7.1*2 | L18: отсутствует | M18: нет данных | N18: 360 | O18: 63.9*44.8*46.3 | P18: 0.133 | Q18: 1. Длина: 1m; вес: 25g 2. Внешний материал: двуслойный прозрачный силикон 3. Материал коннекторов: PVC 4. Сердечник: (35/0.1) * 2+(10/0.1) * 3 OD4.2mm 5. Поддержка Apple PD 27W. | R18: http://gofile.me/649X4/mskdmNlba | S18: -
A19: BX115 Lotto 60W силиконовый зарядный дата кабель C на C | D19: 6941991119699 | E19: белый | F19: 88.07 | H19: =IF(ISBLANK(G19),"",IF(ISNUMBER(F19),ROUND(F19*G19,2),"Укажите цену")) | I19: 42 | J19: 17.4 | K19: 20.2*7.1*2 | L19: отсутствует | M19: нет данных | N19: 360 | O19: 63.9*44.8*46.3 | P19: 0.133 | Q19: 1. Длина: 1m; вес: 25g 2. Внешний материал: двуслойный прозрачный силикон 3. Материал коннекторов: PVC 4. Сердечник: (35/0.1) * 2+(10/0.1) * 3 OD4.2mm 5. Поддержка зарядки 60W для ноутбука и тока 3A для телефона | R19: http://gofile.me/649X4/Z1r8DJUvJ | S19: -
A20: BX115 Lotto силиконовый зарядный дата кабель iP | D20: 6941991119637 | E20: белый | F20: 71.76 | H20: =IF(ISBLANK(G20),"",IF(ISNUMBER(F20),ROUND(F20*G20,2),"Укажите цену")) | I20: 42 | J20: 17.5 | K20: 20.2*7.1*2 | L20: отсутствует | M20: нет данных | N20: 360 | O20: 63.9*44.8*46.3 | P20: 0.133 | Q20: 1. Длина: 1m; вес: 25g 2. Внешний материал: двуслойный прозрачный силикон 3. Материал коннекторов: PVC 4. Сердечник: (43/0.08) * 2+(13/0.08) * 2 OD4.2mm 5. Ток до 2.4А. | R20: http://gofile.me/649X4/QgGyAHsWJ | S20: -
A21: BX115 Lotto силиконовый зарядный дата кабель Micro | D21: 6941991119651 | E21: белый | F21: 65.24 | H21: =IF(ISBLANK(G21),"",IF(ISNUMBER(F21),ROUND(F21*G21,2),"Укажите цену")) | I21: 42 | J21: 17.3 | K21: 20.2*7.1*2 | L21: отсутствует | M21: нет данных | N21: 360 | O21: 63.9*44.8*46.3 | P21: 0.133 | Q21: 1. Длина: 1m; вес: 25g 2. Внешний материал: двуслойный прозрачный силикон 3. Материал коннекторов: PVC 4. Сердечник: (43/0.08) * 2+(13/0.08) * 2 OD4.2mm 5. Ток до 2.4А. | R21: http://gofile.me/649X4/KzEoCFGSK | S21: -
A22: BX115 Lotto силиконовый зарядный дата кабель Type-C | D22: 6941991119675 | E22: белый | F22: 68.5 | H22: =IF(ISBLANK(G22),"",IF(ISNUMBER(F22),ROUND(F22*G22,2),"Укажите цену")) | I22: 43 | J22: 17.4 | K22: 20.2*7.1*2 | L22: отсутствует | M22: нет данных | N22: 360 | O22: 63.9*44.8*46.3 | P22: 0.133 | Q22: 1. Длина: 1m; вес: 25g 2. Внешний материал: двуслойный прозрачный силикон 3. Материал коннекторов: PVC 4. Сердечник: (43/0.08) * 2+(13/0.08) * 2 OD4.2mm 5. Ток до 3A. | R22: http://gofile.me/649X4/TTkX61W2n | S22: -
A23: BX114 Structure PD силиконовый зарядный дата кабель iP | D23: 6941991116827 | E23: черный | F23: 106.01 | H23: =IF(ISBLANK(G23),"",IF(ISNUMBER(F23),ROUND(F23*G23,2),"Укажите цену")) | I23: 37 | J23: 15.3 | K23: 20.3*7.2*2 | L23: отсутствует | M23: нет данных | N23: 360 | O23: 63.9*44.8*46.3 | P23: 0.133 | Q23: 1. Длина: 1m; вес: 25g 2. Внешний материал: силикон 3. Материал коннекторов: силикон 4. Сердечник: (65/0.08)*2+(16/0.08)*3 OD3.8mm 5. Поддержка быстрой зарядки Apple PD 27W. | R23: http://gofile.me/649X4/uT2FPKWKU | S23: -
D24: 6941991116834 | E24: белый | F24: 106.01 | H24: =IF(ISBLANK(G24),"",IF(ISNUMBER(F24),ROUND(F24*G24,2),"Укажите цену"))
A25: BX114 Structure 60W силиконовый зарядный дата кабель C на C | D25: 6941991116902 | E25: черный | F25: 89.7 | H25: =IF(ISBLANK(G25),"",IF(ISNUMBER(F25),ROUND(F25*G25,2),"Укажите цену")) | I25: 37 | J25: 15.6 | K25: 20.3*7.2*2 | L25: отсутствует | M25: нет данных | N25: 360 | O25: 63.9*44.8*46.3 | P25: 0.133 | Q25: 1. Длина: 1m; вес: 25g 2. Внешний материал: силикон 3. Материал коннекторов: силикон 4. Сердечник: (65/0.08)*2+(16/0.08)*3 OD3.8mm 5. Поддержка зарядки 60W для ноутбука и тока 3А для телефона. | R25: http://gofile.me/649X4/VVZANAITg | S25: -
D26: 6941991116919 | E26: белый | F26: 89.7 | H26: =IF(ISBLANK(G26),"",IF(ISNUMBER(F26),ROUND(F26*G26,2),"Укажите цену"))
A27: BX114 Structure силиконовый зарядный дата кабель iP | D27: 6941991116841 | E27: черный | F27: 73.39 | H27: =IF(ISBLANK(G27),"",IF(ISNUMBER(F27),ROUND(F27*G27,2),"Укажите цену")) | I27: 37 | J27: 15.6 | K27: 20.3*7.2*2 | L27: отсутствует | M27: нет данных | N27: 360 | O27: 63.9*44.8*46.3 | P27: 0.133 | Q27: 1. Длина: 1m; вес: 25g 2. Внешний материал: силикон 3. Материал коннекторов: силикон 4. Сердечник: (50/0.08)*2+(16/0.08)*2 OD3.8mm 5. Ток до 2.4A | R27: http://gofile.me/649X4/47TpJyq79 | S27: -
D28: 6941991116858 | E28: белый | F28: 73.39 | H28: =IF(ISBLANK(G28),"",IF(ISNUMBER(F28),ROUND(F28*G28,2),"Укажите цену"))
A29: BX114 Structure силиконовый зарядный дата кабель Micro | D29: 6941991116865 | E29: черный | F29: 66.87 | H29: =IF(ISBLANK(G29),"",IF(ISNUMBER(F29),ROUND(F29*G29,2),"Укажите цену")) | I29: 37 | J29: 15.6 | K29: 20.3*7.2*2 | L29: отсутствует | M29: нет данных | N29: 360 | O29: 63.9*44.8*46.3 | P29: 0.133 | Q29: 1. Длина: 1m; вес: 25g 2. Внешний материал: силикон 3. Материал коннекторов: силикон 4. Сердечник: (50/0.08)*2+(16/0.08)*2 OD3.8mm 5. Ток до 2.4A | R29: http://gofile.me/649X4/2JmZ41xHB | S29: -
D30: 6941991116872 | E30: белый | F30: 66.87 | H30: =IF(ISBLANK(G30),"",IF(ISNUMBER(F30),ROUND(F30*G30,2),"Укажите цену"))
A31: BX114 Structure силиконовый зарядный дата кабель Type-C | D31: 6941991116889 | E31: черный | F31: 70.13 | H31: =IF(ISBLANK(G31),"",IF(ISNUMBER(F31),ROUND(F31*G31,2),"Укажите цену")) | I31: 37 | J31: 15.6 | K31: 20.3*7.2*2 | L31: отсутствует | M31: нет данных | N31: 360 | O31: 63.9*44.8*46.3 | P31: 0.133 | Q31: 1. Длина: 1m; вес: 25g 2. Внешний материал: силикон 3. Материал коннекторов: силикон 4. Сердечник: (50/0.08)*2+(16/0.08)*2 OD3.8mm 5. Ток до 3A | R31: http://gofile.me/649X4/krD6GeIhn | S31: -
D32: 6941991116896 | E32: белый | F32: 70.13 | H32: =IF(ISBLANK(G32),"",IF(ISNUMBER(F32),ROUND(F32*G32,2),"Укажите цену"))
A33: BX113 Lenny PD силиконовый зарядный дата кабель iP(L=1M) | D33: 6941991115370 | E33: черный | F33: 91.33 | H33: =IF(ISBLANK(G33),"",IF(ISNUMBER(F33),ROUND(F33*G33,2),"Укажите цену")) | I33: 36 | J33: 15.2 | K33: 20.3*7.2*2 | L33: отсутствует | M33: нет данных | N33: 360 | O33: 63.9*44.8*46.3 | P33: 0.133 | Q33: 1. Длина: 1m; Вес: 23g 2. Внешний материал: силикон 3. Материал коннекторов: силикон 4. Сердечник: (35/0.1)*2+(10/0.1)*3 OD3.8mm 5. Поддержка зарядки Apple PD 27W | R33: http://gofile.me/649X4/r8CPZvrOw | S33: -
D34: 6941991115387 | E34: белый | F34: 91.33 | H34: =IF(ISBLANK(G34),"",IF(ISNUMBER(F34),ROUND(F34*G34,2),"Укажите цену"))
A35: BX113 Lenny PD силиконовый зарядный дата кабель iP(L=2M) | D35: 6941991115479 | E35: черный | F35: 130.48 | H35: =IF(ISBLANK(G35),"",IF(ISNUMBER(F35),ROUND(F35*G35,2),"Укажите цену")) | I35: 58 | J35: 22.9 | K35: 20.3*7.2*2 | L35: отсутствует | M35: нет данных | N35: 360 | O35: 63.9*44.8*46.3 | P35: 0.133 | Q35: 1. Длина: 2m; Вес: 45g 2. Внешний материал: силикон 3. Материал коннекторов: силикон 4. Сердечник: (40/0.1)*2+(10/0.1)*3 OD3.8mm 5. Поддержка зарядки Apple PD 27W | R35: http://gofile.me/649X4/pp0RG5Udq | S35: -
A36: BX113 Lenny PD силиконовый зарядный дата кабель iP(L=3M) | D36: 6941991115523 | E36: черный | F36: 187.56 | H36: =IF(ISBLANK(G36),"",IF(ISNUMBER(F36),ROUND(F36*G36,2),"Укажите цену")) | I36: 81 | J36: 31.6 | K36: 20.3*7.2*2 | L36: отсутствует | M36: нет данных | N36: 360 | O36: 63.9*44.8*46.3 | P36: 0.133 | Q36: 1. Длина: 3m; Вес: 69g 2. Внешний материал: силикон 3. Материал коннекторов: силикон 4. Сердечник: (50/0.1)*2+(10/0.1)*3 OD3.8mm 5. Поддержка зарядки Apple PD 27W | R36: http://gofile.me/649X4/pp0RG5Udq | S36: -
A37: BX113 Lenny 60W силиконовый зарядный дата кабель C на C(L=1M) | D37: 6941991115455 | E37: черный | F37: 73.39 | H37: =IF(ISBLANK(G37),"",IF(ISNUMBER(F37),ROUND(F37*G37,2),"Укажите цену")) | I37: 36 | J37: 15.2 | K37: 20.3*7.2*2 | L37: отсутствует | M37: нет данных | N37: 360 | O37: 63.9*44.8*46.3 | P37: 0.133 | Q37: 1. Длина: 1m; Вес: 23g 2. Внешний материал: силикон 3. Материал коннекторов: силикон 4. Сердечник: (35/0.1)*2+(10/0.1)*3 OD3.8mm 5. Поддержка зарядки 60W для ноутбука и тока 3A для телефона | R37: http://gofile.me/649X4/DFnEAdxfK | S37: -
D38: 6941991115462 | E38: белый | F38: 73.39 | H38: =IF(ISBLANK(G38),"",IF(ISNUMBER(F38),ROUND(F38*G38,2),"Укажите цену"))
A39: BX113 Lenny 60W силиконовый зарядный дата кабель C на C(L=2M) | D39: 6941991115516 | E39: черный | F39: 107.64 | H39: =IF(ISBLANK(G39),"",IF(ISNUMBER(F39),ROUND(F39*G39,2),"Укажите цену")) | I39: 57 | J39: 22.3 | K39: 20.3*7.2*2 | L39: отсутствует | M39: нет данных | N39: 360 | O39: 63.9*44.8*46.3 | P39: 0.133 | Q39: 1. Длина: 2m; Вес: 45g 2. Внешний материал: силикон 3. Материал коннекторов: силикон 4. Сердечник: (40/0.1)*2+(10/0.1)*3 OD3.8mm 5. Поддержка зарядки 60W для ноутбука и тока 3A для телефона | R39: http://gofile.me/649X4/Kt4h0cLvg | S39: -
A40: BX113 Lenny 60W силиконовый зарядный дата кабель C на C(L=3M) | D40: 6941991115561 | E40: черный | F40: 163.09 | H40: =IF(ISBLANK(G40),"",IF(ISNUMBER(F40),ROUND(F40*G40,2),"Укажите цену")) | I40: 82 | J40: 37.8 | K40: 20.3*7.2*2 | L40: отсутствует | M40: нет данных | N40: 360 | O40: 63.9*44.8*46.3 | P40: 0.133 | Q40: 1. Длина: 3m; Вес: 69g 2. Внешний материал: силикон 3. Материал коннекторов: силикон 4. Сердечник: (50/0.1)*2+(10/0.1)*3 OD3.8mm 5. Поддержка зарядки 60W для ноутбука и тока 3A для телефона | R40: http://gofile.me/649X4/Kt4h0cLvg | S40: -
A41: BX113 Lenny силиконовый зарядный дата кабель iP(L=1M) | D41: 6941991115394 | E41: черный | F41: 55.45 | H41: =IF(ISBLANK(G41),"",IF(ISNUMBER(F41),ROUND(F41*G41,2),"Укажите цену")) | I41: 37 | J41: 15.3 | K41: 20.3*7.2*2 | L41: отсутствует | M41: нет данных | N41: 360 | O41: 63.9*44.8*46.3 | P41: 0.133 | Q41: 1. Длина: 1m; Вес: 23g 2. Внешний материал: силикон 3. Материал коннекторов: силикон 4. Сердечник: (43/0.08)*2+(13/0.08)*2 OD3.8mm 5. Ток до 2,4А. | R41: http://gofile.me/649X4/yh8shi7zr | S41: -
D42: 6941991115400 | E42: белый | F42: 55.45 | H42: =IF(ISBLANK(G42),"",IF(ISNUMBER(F42),ROUND(F42*G42,2),"Укажите цену"))
...

Sheet Переходники и хабы
A2: Переходники и хабы
A3: Наименование | B3: Фото товара | C3: Упаковка | D3: Артикул / штрихкод | E3: Цвет | F3: цена | G3: Количество к заказу | H3: Сумма заказа, ₽ | I3: Вес G.W.(г) | J3: Вес большой коробки (кг) | K3: Рзмер индивидуальной упаковки (см) | L3: Кол-во в средней коробке (шт) | M3: Размер средней коробки (см) | N3: Кол-во в большой коробке (шт) | O3: Размер большой коробки (см) | P3: VOLUME (cbm) | Q3: Описание | R3: Сыллка на фото | S3: Ссылка на видео
A4: Серия FH — док-станции и хабы
A5: FH1 4-в-1 конвертер (USB на USB2.0*3+USB3.0) | D5: 6941991126116 | E5: металлик | F5: 120.69 | H5: =IF(ISBLANK(G5),"",IF(ISNUMBER(F5),ROUND(F5*G5,2),"Укажите цену")) | I5: 29 | J5: 10.12 | K5: 14.2*8.6*1.7 | L5: 46 | M5: 37*23.3*12.5 | N5: 276 | O5: 48.2*38.6*40 | P5: 0.074 | Q5: 1. Материал: алюминиевый сплав 2. размер: 95 * 29 * 7.5mm; Вес: 14g 3. Интерфейс: USB на USB 2.0 * 3+USB 3.0 4. Теоретическая скорость передачи: 3.0 до 5Gbps, 2.0 до 480Mbps 5. 4 USB могут использоваться одновременно | R5: http://gofile.me/649X4/Xv5ueykaV | S5: -
A6: FH1A 4-в-1 конвертер (Type-C на USB2.0*3+USB3.0) | D6: 6941991126123 | E6: металлик | F6: 120.69 | H6: =IF(ISBLANK(G6),"",IF(ISNUMBER(F6),ROUND(F6*G6,2),"Укажите цену")) | I6: 28 | J6: 9.7 | K6: 14.2*8.6*1.7 | L6: 46 | M6: 37*23.3*12.5 | N6: 276 | O6: 48.2*38.6*40 | P6: 0.074 | Q6: 1. Материал: алюминиевый сплав 2. размер: 95 * 25 * 7.5mm; Вес: 14g 3. Интерфейс: Type-C на USB 2.0 * 3+USB 3.0 4. Теоретическая скорость передачи: 3.0 up to 5Gbps, 2.0 up to 480Mbps 5. 4 USB могут использоваться одновременно | R6: http://gofile.me/649X4/oj87vk7ss | S6: -
A8: Серия DH (док-станция расширения USB-HUB)
A9: DH8 USB BT адаптер | D9: 6941991109652 | E9: черный | F9: 171.25 | H9: =IF(ISBLANK(G9),"",IF(ISNUMBER(F9),ROUND(F9*G9,2),"Укажите цену")) | I9: 10 | J9: 4.1 | K9: 13*8*0.9 | L9: 33 | M9: 29.8*14.5*8.7 | N9: 264 | O9: 60.5*29.5*19.6 | P9: 0.035 | Q9: 1. Материал: пластик 2. Размер: 30*16*7mm; Вес: 2.5g 3. Bluetooth: V5.1 (поддержка Bluetooth 4.0, 3.0) 4. Скорость передачи: 3.0Mbps 5. Широкая подключение нескольких Bluetooth устройств одновременно. | R9: http://gofile.me/649X4/mZkbp1Lcw | S9: -
A11: Серия BV ( адаптер)
A12: BV26 iP штекер на USB гнездо USB2.0 адаптер | D12: 6941991123979 | E12: чёрный | F12: 89.7 | H12: =IF(ISBLANK(G12),"",IF(ISNUMBER(F12),ROUND(F12*G12,2),"Укажите цену")) | I12: 8 | J12: 14.15 | K12: 14.4*9.4*0.6 | L12: 250 | M12: 37*23.3*12.5 | N12: 1500 | O12: 48.2*38.6*40 | P12: 0.074 | Q12: 1. Коннектор: Lightning штекер на USB гнездо 2. Поддержка OTG для Apple телефонов, прямое чтение файло в приложении iPhone "File" 3. Зарядка не поддерживается | R12: http://gofile.me/649X4/7k5Grtsa6 | S12: -
A13: BV26A iP штекер на Type-C гнездо USB2.0 адаптер | D13: 6941991123986 | E13: чёрный | F13: 58.71 | H13: =IF(ISBLANK(G13),"",IF(ISNUMBER(F13),ROUND(F13*G13,2),"Укажите цену")) | I13: 5 | J13: 10.25 | K13: 14.4*9.4*0.6 | L13: 250 | M13: 37*23.3*12.5 | N13: 1500 | O13: 48.2*38.6*40 | P13: 0.074 | Q13: 1. Коннектор: Lightning штекер на Type-C гнездо 2. Поддержка передачи данных, не поддерживает OTG 3. Поддержка зарядки: 5V/2A USB на Type-C, 5V/2A Type-C на Type-C (нет PD функции) | R13: http://gofile.me/649X4/sbeE8JJIC | S13: -
A14: BV26B USB штекер на Type-C гнездо USB3.0 адаптер | D14: 6941991123993 | E14: чёрный | F14: 34.25 | H14: =IF(ISBLANK(G14),"",IF(ISNUMBER(F14),ROUND(F14*G14,2),"Укажите цену")) | I14: 10 | J14: 16.4 | K14: 14.4*9.4*0.6 | L14: 250 | M14: 37*23.3*12.5 | N14: 1500 | O14: 48.2*38.6*40 | P14: 0.074 | Q14: 1. Коннектор: USB штекер на Type-C гнездо 2. Поддержка передачи данных, чтение файлов на ПК с накопителя с Type-C интерфейсом 3. Поддержка зарядки: с кабелем Type-C на Lightning PD 5V/2A, с кабелем Type-C на Type-C 60W/ 3A, поддержка быстрой зарядки для Android телефонов Huawei FCP, Xiaomi, Samsung, OPPO, и др. | R14: http://gofile.me/649X4/3z0RPvqoR | S14: -
A15: BV26C Type-C штекер на USB гнездо USB3.0 адаптер | D15: 6941991123962 | E15: чёрный | F15: 26.1 | H15: =IF(ISBLANK(G15),"",IF(ISNUMBER(F15),ROUND(F15*G15,2),"Укажите цену")) | I15: 8 | J15: 14.45 | K15: 14.4*9.4*0.6 | L15: 250 | M15: 37*23.3*12.5 | N15: 1500 | O15: 48.2*38.6*40 | P15: 0.074 | Q15: 1. Коннектор: Type-C штекер на USB гнездо 2. Поддержка OTG, подключите накопитель с Type-C интерфейсом для чтения файлов 3. Поддержка зарядки. USB на Lightning 5V/1.5A (нет PD); USB на Type-C 5V/2A (не подходит для ноутбуков) | R15: http://gofile.me/649X4/gzhPtEieC | S15: -
A16: BV26D iP штекер/Type-C штекер/Micro штекер на USB гнездо USB2.0 3-в-1 адаптер | D16: 6941991124006 | E16: чёрный | F16: 138.63 | H16: =IF(ISBLANK(G16),"",IF(ISNUMBER(F16),ROUND(F16*G16,2),"Укажите цену")) | I16: 9 | J16: 15.29 | K16: 14.4*9.4*0.6 | L16: 250 | M16: 37*23.3*12.5 | N16: 1500 | O16: 48.2*38.6*40 | P16: 0.074 | Q16: 1. Коннектор: Lightning штекер/Type-C штекер /Micro штекер на USB гнездо, 3-в-1 2. Не поддерживает OTG, только чтение файлов 3. Type-C поддерживает зарядку (5V/1.5A) | R16: http://gofile.me/649X4/KEVw3Dq8c | S16: -
A17: BV18 USB штекер на Type-C гнездо USB2.0 адаптер | D17: 6941991104008 | E17: черный | F17: 68.5 | H17: =IF(ISBLANK(G17),"",IF(ISNUMBER(F17),ROUND(F17*G17,2),"Укажите цену")) | I17: 16 | J17: 8.99 | K17: 14.1*9*1.1 | L17: 70 | M17: 37*23.3*12.5 | N17: 420 | O17: 48.2*38.6*40 | P17: 0.074 | Q17: 1. Коннектор: штекер USB на гнездо Type-C. 2. Поддержка передачи данных и функции OTG. 3. С кабелем C-L можно заряжать устройства интерфейса Lightning с 5В / 2А, не поддерживает быструю зарядку PD; с помощью кабеля быстрой зарядки C-C мощностью 60 Вт поддерживает быструю зарядку током до 3А, совместим с Huawei, Xiaomi, Samsung, OPPO и другими мобильными телефонами. | R17: http://gofile.me/649X4/wbKbO64BT | S17: -
A18: BV18 Type-C штекер на USB гнездо USB3.0 адаптер | D18: 6941991104015 | E18: черный | F18: 68.5 | H18: =IF(ISBLANK(G18),"",IF(ISNUMBER(F18),ROUND(F18*G18,2),"Укажите цену")) | I18: 17 | J18: 9.49 | K18: 14.1*9.1*1.2 | L18: 70 | M18: 37*23.3*12.5 | N18: 420 | O18: 48.2*38.6*40 | P18: 0.074 | Q18: 1. Коннектор: Type-C штекер на USB гнездо. 2. Поддержка передачи данных и функции OTG. 3. С кабелем A-L можно заряжать устройства интерфейса Lightning с 5В / 2А, не поддерживает быструю зарядку PD; С кабелем A-C устройство с интерфейсом Type-C можно заряжать максимальным током 4А, поддерживает быструю зарядку для Huawei, Xiaomi и OPPO. | R18: http://gofile.me/649X4/qlJFOjCG3 | S18: -
A19: BV3 Type-C OTG адаптер | D19: 6957531090328 | E19: серебро | F19: 81.55 | H19: =IF(ISBLANK(G19),"",IF(ISNUMBER(F19),ROUND(F19*G19,2),"Укажите цену")) | I19: 17 | J19: 12.1 | K19: 19*7.5*0.5 | L19: 100 | M19: 37*23.3*12.5 | N19: 600 | O19: 48.2*38.6*40 | P19: 0.074 | Q19: 1. Материал: алюминий. 2. Функция: подключение мобильного телефона Type-C к USB накопителю / портативному жесткому диску (1 ГБ макс) или мобильному телефону iP / Type-C. 3. Поддержка зарядки подключенного мобильного телефона iP / Type-C и чтение / запись данных. 4. Размер: 3 * 1,5 * 0,7. Вес: 3 г. | R19: http://hoco.i234.me:8000/sharing/85xSLAj4n | S19: -
A21: Серия BUS
A22: BUS01 Category 6 Gigabit network cable(L=1M) | D22: 6941991103933 | E22: черный | F22: 73.39 | H22: =IF(ISBLANK(G22),"",IF(ISNUMBER(F22),ROUND(F22*G22,2),"Укажите цену")) | I22: 41 | J22: 13.5 | K22: 23.6*17.8*1.3 | L22: отсутствует | M22: нет данных | N22: 300 | O22: 57.8*33.7*49 | P22: 0.095 | Q22: 1, Материал:PVC, Длина: 1м 2. 6-cat gigabit сетевой кабель, композитный медный сердечник, стандартный 6-cat коннектор. 3, Подходит для маршрутизаторов, компьютеров, коммутаторов и другого коннекторного оборудования RJ45, используемого дома и в офисе | R22: http://gofile.me/649X4/sT4nbqkfm | S22: -
A23: BUS01 Category 6 Gigabit network cable(L=3M) | D23: 6941991103940 | E23: черный | F23: 97.86 | H23: =IF(ISBLANK(G23),"",IF(ISNUMBER(F23),ROUND(F23*G23,2),"Укажите цену")) | I23: 86 | J23: 15.58 | K23: 23.5*17.8*2.5 | L23: отсутствует | M23: нет данных | N23: 170 | O23: 57.8*33.7*49 | P23: 0.095 | Q23: 1, Материал:PVC, Длина: 3м 2. 6-cat gigabit сетевой кабель, композитный медный сердечник, стандартный 6-cat коннектор. 3, Подходит для маршрутизаторов, компьютеров, коммутаторов и другого коннекторного оборудования RJ45, используемого дома и в офисе | R23: http://gofile.me/649X4/sT4nbqkfm | S23: -
A24: BUS01 Category 6 Gigabit network cable(L=5M) | D24: 6941991103957 | E24: черный | F24: 146.78 | H24: =IF(ISBLANK(G24),"",IF(ISNUMBER(F24),ROUND(F24*G24,2),"Укажите цену")) | I24: 132 | J24: 18 | K24: 23.5*17.8*4 | L24: отсутствует | M24: нет данных | N24: 130 | O24: 57.8*33.7*49 | P24: 0.095 | Q24: 1, Материал:PVC, Длина: 5м 2. 6-cat gigabit сетевой кабель, композитный медный сердечник, стандартный 6-cat коннектор. 3, Подходит для маршрутизаторов, компьютеров, коммутаторов и другого коннекторного оборудования RJ45, используемого дома и в офисе | R24: http://gofile.me/649X4/sT4nbqkfm | S24: -
A25: BUS01 Category 6 Gigabit network cable(L=8M) | D25: 6941991103964 | E25: черный | F25: 212.02 | H25: =IF(ISBLANK(G25),"",IF(ISNUMBER(F25),ROUND(F25*G25,2),"Укажите цену")) | I25: 199 | J25: 18.85 | K25: 23.7*17.5*2.5 | L25: отсутствует | M25: нет данных | N25: 90 | O25: 57.8*33.7*49 | P25: 0.095 | Q25: 1, Материал:PVC, Длина: 8м 2. 6-cat gigabit сетевой кабель, композитный медный сердечник, стандартный 6-cat коннектор. 3, Подходит для маршрутизаторов, компьютеров, коммутаторов и другого коннекторного оборудования RJ45, используемого дома и в офисе | R25: http://gofile.me/649X4/sT4nbqkfm | S25: -
A26: BUS01 Category 6 Gigabit network cable(L=10M) | D26: 6941991103971 | E26: черный | F26: 244.64 | H26: =IF(ISBLANK(G26),"",IF(ISNUMBER(F26),ROUND(F26*G26,2),"Укажите цену")) | I26: 240 | J26: 21.65 | K26: 23*17.8*4 | L26: отсутствует | M26: нет данных | N26: 85 | O26: 57.8*33.7*49 | P26: 0.095 | Q26: 1, Материал:PVC, Длина: 10м 2. 6-cat gigabit сетевой кабель, композитный медный сердечник, стандартный 6-cat коннектор. 3, Подходит для маршрутизаторов, компьютеров, коммутаторов и другого коннекторного оборудования RJ45, используемого дома и в офисе | R26: http://gofile.me/649X4/sT4nbqkfm | S26: -
F27: Итого к оплате, ₽ | H27: =IF(COUNTIFS(H5:H26,"Укажите цену")>0,"Укажите цены",SUM(H5:H26)) -> 0

Sheet Внешние аккумуляторы
A2: Внешние аккумуляторы
A3: Наименование | B3: Фото товара | C3: Упаковка | D3: Артикул / штрихкод | E3: Цвет | F3: цена | G3: Количество к заказу | H3: Сумма заказа, ₽ | I3: Вес G.W.(г) | J3: Вес большой коробки (кг) | K3: Рзмер индивидуальной упаковки (см) | L3: Кол-во в средней коробке (шт) | M3: Размер средней коробки (см) | N3: Кол-во в большой коробке (шт) | O3: Размер большой коробки (см) | P3: VOLUME (cbm) | Q3: Описание | R3: Сыллка на фото | S3: Ссылка на видео
A4: Модели с сертификацией CCC
A5: BJ94 Origium PD20W магнитный пауэрбанк (10000mAh)(CCC) | D5: 6941991130007 | E5: белый | F5: 1060.11 | H5: =IF(ISBLANK(G5),"",IF(ISNUMBER(F5),ROUND(F5*G5,2),"Укажите цену")) | I5: 234 | J5: 14.41 | K5: 19.1*8.5*2.2 | L5: отсутствует | M5: нет данных | N5: 60 | O5: 36*26*27 | P5: 0.025 | Q5: 1. Емкость: 10000mAh 38.5Wh. Номинальная емкость: 5300mAh. 2. Вход: Type-C: 18W. 3. Выход: Type-C: 20W (PD/QC/FCP/AFC). Выход беспроводной зарядки: 5W/7.5W/10W/15W. Общий выход: 5V/3A. 4. Отображение: светодиодный индикатор уровня заряда. 5. Материал: трудновоспламеняемый корпус ABS+PC + литий-полимерный элемент. 6. Размеры: 101*65*19 мм. Вес: 190 г. | R5: http://gofile.me/649X4/kcwEK02GS | S5: -
A6: BJ93 Skillux PD20W пауэрбанк с кабелем (10000mAh)(CCC) 「Неопасные товары」 | D6: 6941991129995 | E6: серебро | F6: 1092.73 | H6: =IF(ISBLANK(G6),"",IF(ISNUMBER(F6),ROUND(F6*G6,2),"Укажите цену")) | I6: 213 | J6: 12.03 | K6: 19.2*8.6*2.6 | L6: отсутствует | M6: нет данных | N6: 54 | O6: 36*26*27 | P6: 0.025 | Q6: 1. Емкость: 10000mAh 38.5Wh. Номинальная емкость: 6000mAh. 2. Вход: Type-C: 18W. 3. Выход: Type-C/кабель Type-C: 20W (PD/QC/FCP/AFC). Кабель Lightning: 5V/2.4A. Общий выход: 5V/3A. 4. Материал: корпус из ABS+PC с защитой от возгорания + литий-полимерный аккумулятор. 5. Размер: 70*64*26 мм. Вес: 175 г. | R6: http://gofile.me/649X4/LCkeTSSOK | S6: -
A7: BJ90 Pasar пауэрбанк (10000mAh)(CCC) | D7: 6941991129292 | E7: чёрный | F7: 497.44 | H7: =IF(ISBLANK(G7),"",IF(ISNUMBER(F7),ROUND(F7*G7,2),"Укажите цену")) | I7: 262 | J7: 16.18 | K7: 19.4*8.7*2.5 | L7: отсутствует | M7: нет данных | N7: 60 | O7: 36*26*27 | P7: 0.025 | Q7: 1. Ёмкость: 10000 мА·ч 37 Вт·ч; Номинальная ёмкость: 5300 мА·ч 2. Вход: Micro/Type-C: 5 В/2,1 А 3. Выход: USB1/USB2: 5 В/2,1 А; Общий выход: 5 В/2,1 А 4. Индикация: светодиодный индикатор уровня заряда 5. Материал: ABS+PC+литий-полимерный аккумуляторный элемент 6. Размер: 140 × 67,5 × 16 мм; Вес: 220 г | R7: http://gofile.me/649X4/ZjsiyKRJo | S7: -
A8: BJ90A Pasar пауэрбанк (20000mAh)(CCC) 「Неопасные товары」 | D8: 6941991129308 | E8: чёрный | F8: 782.85 | H8: =IF(ISBLANK(G8),"",IF(ISNUMBER(F8),ROUND(F8*G8,2),"Укажите цену")) | I8: 455 | J8: 19.6 | K8: 19.5*8.7*3.5 | L8: отсутствует | M8: нет данных | N8: 42 | O8: 36*26*27 | P8: 0.025 | Q8: 1. Ёмкость: 20000 мА·ч 74 Вт·ч; Номинальная ёмкость: 10600 мА·ч 2. Вход: Micro/Type-C: 5 В/2,1 А 3. Выход: USB1/USB2: 5 В/2,1 А; Общий выход: 5 В/2,1 А 4. Индикация: светодиодный индикатор уровня заряда 5. Материал: ABS+PC+литий-полимерный аккумуляторный элемент 6. Размер: 142 × 68 × 28,5 мм; Вес: 400 г | R8: http://gofile.me/649X4/KKGN7LgGw | S8: -
A10: Серия BJ (настоящий стандарт)
A11: BJ91 Alba 22.5W+PD20W 4-cable+lighting power bank(40000mAh) | D11: 6941991129759 | E11: чёрный | F11: 2152.84 | H11: =IF(ISBLANK(G11),"",IF(ISNUMBER(F11),ROUND(F11*G11,2),"Укажите цену")) | I11: 863 | J11: 13.59 | K11: 17.8*11.5*10.3 | L11: отсутствует | M11: нет данных | N11: 15 | O11: 53.5*36*19.8 | P11: 0.038 | Q11: 1. Емкость: 40000mAh 128Wh. Номинальная мощность: 20000mAh. 2. Вход: Тип-C1: 18W. Кабель типа C2/USB-A: 5В/2А. 3. Выход: Тип-C1: 20 Вт (PD/QC/FCP/AFC). USB-A: 22,5 Вт (QC/FCP/SCP/AFC). USB-A2/Micro кабель/Type-C кабель/iP кабель: 5V/2A. Общая мощность: 5В / 2А. 4. Дисплей: светодиодный цифровой индикатор уровня батареи. 5. Материал: негорючий корпус ABS+PC. Аккумулятор LiFePO₄. 6. Размеры: 81*66*145мм. Вес: 860г. | R11: http://gofile.me/649X4/iHJZ2RAP9 | S11: -
A12: BJ91A Alba 22.5W+PD20W 4-cable+lighting power bank(60000mAh) | D12: 6941991129896 | E12: чёрный | F12: 2739.98 | H12: =IF(ISBLANK(G12),"",IF(ISNUMBER(F12),ROUND(F12*G12,2),"Укажите цену")) | I12: 1191 | J12: 15 | K12: 17.8*12.9*11.5 | L12: отсутствует | M12: нет данных | N12: 12 | O12: 53.5*36*19.8 | P12: 0.038 | Q12: 1. Емкость: 60000mAh 192Wh; Номинальная мощность: 30000mAh 2. Вход: Тип-C1: 18W; Кабель типа C2/USB-A: 5В/2А 3. Выход: Тип-C1: 20W (PD/QC/FCC/AFC); USB-A: 22,5 Вт (QC/FCP/SCP/AFC); USB-A2/Micro кабель/Type-C кабель/IP кабель: 5V/2A; Общая мощность: 5V / 2A 4. Дисплей: светодиодный цифровой дисплей уровня батареи 5. Материал: негорючий корпус ABS+PC. Аккумулятор LiFePO₄. 6. Size: 81 * 91 * 145mm; Вес: 1150г | R12: http://gofile.me/649X4/G5VY1TDUh | S12: -
A13: BJ89 Salte PD20W портативный аккумулятор с лампой и 2 кабелями (10000mAh) | D13: 6941991128448 | E13: чёрный | F13: 1035.65 | H13: =IF(ISBLANK(G13),"",IF(ISNUMBER(F13),ROUND(F13*G13,2),"Укажите цену")) | I13: 227 | J13: 10.04 | K13: 18.3*8.7*3.5 | L13: отсутствует | M13: нет данных | N13: 42 | O13: 36*26*27 | P13: 0.025 | Q13: 1. Емкость: 10000mAh 38.5Wh; Номинальная емкость: 6000mAh 2. Вход: USB-C: 18W 3. Выход: USB-C/USB-C кабель: 20W (PD/QC/FCC/AFC); IP кабель: 5V/2.4A; Общий выход: 5V/2A 4. Индикация: LED цифровой дисплей уровня заряда 5. Материал: PC+ABS огнеупорный+литий-полимерный аккумулятор 6. Размер: 98 * 50 * 30mm; вес: 185g“ | R13: http://gofile.me/649X4/byd1hUzdy | S13: -
A14: BJ87 Star портативный аккумулятор с фонариком и кабелем (5000mAh) 「Неопасные товары」 | D14: 6941991126901 | E14: чёрный и серый | F14: 546.37 | H14: =IF(ISBLANK(G14),"",IF(ISNUMBER(F14),ROUND(F14*G14,2),"Укажите цену")) | I14: 135 | J14: 8.93 | K14: 15.7*8.6*3.2 | L14: отсутствует | M14: нет данных | N14: 62 | O14: 36*26*27 | P14: 0.025 | Q14: 1. Емкость: 5000mAh 18.5Wh номинальная емкость 2. Вход: USB-C: 5V/2A 3. Выход: USB-C: 5V/2A; Общий Выход: 5V/2A 4. Индикация: LED индикатор уровня заряда 5. Материал: PC+ABSогнеупорный корпус+21700 батарея 6. Размер: 108 * 31 * 29mm; вес: 105g | R14: http://gofile.me/649X4/iac1Hwuh5 | S14: -
A15: BJ85 Myriad портативный аккумулятор 22.5W+PD20W+лампа (100000mAh) | D15: 6941991125560 | E15: чёрный | F15: 3800.09 | H15: =IF(ISBLANK(G15),"",IF(ISNUMBER(F15),ROUND(F15*G15,2),"Укажите цену")) | I15: 1963 | J15: 16.41 | K15: 18.5*16.6*10 | L15: отсутствует | M15: нет данных | N15: 8 | O15: 42*34.8*20.2 | P15: 0.03 | Q15: 1. Емкость: 100000mAh 370Wh Номинальная емкость: 55000mAh 2. Вход: USB-C/Micro/IP: 18W 3. Выход: USB-C: 20W (PD/QC/FCC/AFC); USB-A1/A3：22.5W（QC/FCP/SCP/AFC）； USB-A2/A4：5V/3A； Общий Выход: 5V/2A 4. Дисплей: LED цифровой уровня заряда 5. Материал: ABS+PC+литий-полимерный аккумулятор 6. Размер: 151 * 132 * 66mm; Вес: 1950g | R15: http://gofile.me/649X4/CT2JL9Hyj | S15: -
A16: BJ84 Smooth портативный аккумулятор с 4 кабелями (10000mAh) | D16: 6941991126161 | E16: чёрный | F16: 521.9 | H16: =IF(ISBLANK(G16),"",IF(ISNUMBER(F16),ROUND(F16*G16,2),"Укажите цену")) | I16: 281 | J16: 12.82 | K16: 20*9.8*2.6 | L16: отсутствует | M16: нет данных | N16: 44 | O16: 36*26*27 | P16: 0.025 | Q16: 1. Ёмкость: 10000mAh 37Wh Номинальная ёмкость: 5500mAh 2. Вход: USB-C/USB-A кабель: 5V/2A 3. Выход: USB-A: 5V/2A; Micro USB кабель/USB-C кабель/IP кабель: 5V/2A; Общий выход: 5V/2A 4. Индикация: LED индикатор 5. Материал: ABS+PC+литий-полимерная батарея 6. Размер: 147 * 68 * 22mm; Вес: 248g | R16: http://gofile.me/649X4/fgDOPziu6 | S16: -
A17: BJ84A Smooth портативный аккумулятор с 4 кабелями (20000mAh)「Неопасные товары」 | D17: 6941991126178 | E17: чёрный | F17: 815.47 | H17: =IF(ISBLANK(G17),"",IF(ISNUMBER(F17),ROUND(F17*G17,2),"Укажите цену")) | I17: 461 | J17: 14.8 | K17: 19.6*9.7*3.7 | L17: отсутствует | M17: нет данных | N17: 31 | O17: 36*26*27 | P17: 0.025 | Q17: 1. Ёмкость: 20000mAh 74Wh Номинальная ёмкость: 11000mAh 2. Вход: USB-C/USB-A кабель: 5V/2A 3. Выход: USB-A: 5V/2A; Micro USB кабель/USB-C кабель/IP кабель: 5V/2A; общий выход: 5V/2A 4. Индикация: LED индикатор 5. Материал: ABS+PC+литий-полимерная батарея 6. Размер: 147 * 68 * 33mm; Вес: 420g | R17: http://gofile.me/649X4/OyZX1CmkY | S17: -
A18: BJ82 Dawn магнитный портативный аккумулятор (5000mAh) 「Неопасные товары」 | D18: 6941991124792 | E18: чёрный | F18: 685 | H18: =IF(ISBLANK(G18),"",IF(ISNUMBER(F18),ROUND(F18*G18,2),"Укажите цену")) | I18: 169 | J18: 12.6 | K18: 19.3*8.7*2 | L18: отсутствует | M18: нет данных | N18: 72 | O18: 36*26*27 | P18: 0.025 | Q18: 1. Емкость: 5000mAh 18.5Wh Номинальная емкость: 2600mAh 2. Вход: USB-C: 5V/2A 3. Выход: USB-A: 5V/2A; Беспроводная зарядка: 5W; общий выход: 5V/2A 4. Дисплей: LED индикатор 5. Материал: ABS+PC+литий-полимерная батарея 6. Размер: 100 * 64 * 16mm; Вес: 140g | R18: http://gofile.me/649X4/t5Rd6rSam | S18: -
A19: BJ82A Dawn PD20W магнитный портативный аккумулятор (10000mAh) | D19: 6941991124808 | E19: чёрный | F19: 1019.34 | H19: =IF(ISBLANK(G19),"",IF(ISNUMBER(F19),ROUND(F19*G19,2),"Укажите цену")) | I19: 236 | J19: 16.07 | K19: 19.3*8.7*2.4 | L19: отсутствует | M19: нет данных | N19: 60 | O19: 36*26*27 | P19: 0.025 | Q19: 1. Емкость: 10000mAh 38.5Wh Номинальная емкость: 5500mAh 2. Вход: USB-C: 18W 3. Выход: USB-C: 20W (PD/QC/FCC/AFC); Беспроводная зарядка: 5W/7.5W/10W/15W (MagSafe 7.5W); общий выход: 5V/2A 4. Дисплей: LED индикатор 5. Материал: ABS+PC+литий-полимерная батарея 6. Размер: 100 * 69 * 18mm; Вес: 200g | R19: http://gofile.me/649X4/aRs6r4tmy | S19: -
A20: BJ80 Clever 22.5W+PD20W универсальный портативный аккумулятор (10000mAh) | D20: 6941991121593 | E20: чёрный | F20: 660.53 | H20: =IF(ISBLANK(G20),"",IF(ISNUMBER(F20),ROUND(F20*G20,2),"Укажите цену")) | I20: 262 | J20: 17.7 | K20: 19.4*8.8*2.2 | L20: отсутствует | M20: нет данных | N20: 66 | O20: 36*26*27 | P20: 0.025 | Q20: 1. Емкость: 10000mAh 37Wh Номинальная емкость: 5500mAh 2. Вход: USB-C/Micro-USB: 18W 3. Выход: USB-A1/A2: 22.5W (QC/FCP/SCP/AFC). USB-C: 20W (PD/QC/FCP/AFC). Общий выход: 5V/2A 4. Индикация: LED индикатор уровня заряда. 5. Материал: ABS+PC+литий-полимерная батарея 6. Размер: 146 * 68 * 17mm; Вес: 230g | R20: http://gofile.me/649X4/nlNOMAaQp | S20: http://gofile.me/649X4/wxc79O3Gn
D21: 6941991121609 | E21: белый | F21: 660.53 | H21: =IF(ISBLANK(G21),"",IF(ISNUMBER(F21),ROUND(F21*G21,2),"Укажите цену"))
A22: BJ80A Clever 22.5W+PD20W универсальный портативный аккумулятор (20000mAh) 「Неопасные товары」 | D22: 6941991121616 | E22: чёрный | F22: 962.26 | H22: =IF(ISBLANK(G22),"",IF(ISNUMBER(F22),ROUND(F22*G22,2),"Укажите цену")) | I22: 450 | J22: 19.36 | K22: 19.3*8.7*3.3 | L22: отсутствует | M22: нет данных | N22: 42 | O22: 36*26*27 | P22: 0.025 | Q22: 1. Емкость: 20000mAh 74Wh Номинальная емкость: 11000mAh 2. Вход: USB-C/Micro-USB: 18W 3. Выход: USB-A1/A2: 22.5W (QC/FCP/SCP/AFC). USB-C: 20W (PD/QC/FCP/AFC). Общий выход: 5V/2A 4. Индикация: LED индикатор уровня заряда. 5. Материал: ABS+PC+литий-полимерная батарея 6. Размер: 147 * 70 * 66mm; Вес: 965g | R22: http://gofile.me/649X4/iZ74EgV0j | S22: http://gofile.me/649X4/wxc79O3Gn
D23: 6941991121623 | E23: белый | F23: 962.26 | H23: =IF(ISBLANK(G23),"",IF(ISNUMBER(F23),ROUND(F23*G23,2),"Укажите цену"))
A24: BJ80B Clever 22.5W+PD20W универсальный портативный аккумулятор (30000mAh) | D24: 6941991121630 | E24: чёрный | F24: 1280.29 | H24: =IF(ISBLANK(G24),"",IF(ISNUMBER(F24),ROUND(F24*G24,2),"Укажите цену")) | I24: 653 | J24: 20 | K24: 17*8.8*4.7 | L24: отсутствует | M24: нет данных | N24: 30 | O24: 36*26*27 | P24: 0.025 | Q24: 1. Емкость: 30000mAh 111Wh Номинальная емкость: 16500mAh 2. Вход: USB-C/Micro USB: 18W 3. Выход: USB-A1/A2:22.5W (QC/FCP/SCP/AFC). USB-C: 20W (PD/QC/FCP/AFC). Общий выход: 5V/2A. 4. Индикация: LED индикатор уровня заряда. 5. Материал: ABS+PC+polymer electronics 6. Размер: 147 * 70 * 66mm Вес: 965г | R24: http://gofile.me/649X4/lkYSknVYS | S24: http://gofile.me/649X4/wxc79O3Gn
A25: BJ80C Clever 22.5W+PD20W универсальный портативный аккумулятор (50000mAh) | D25: 6941991121654 | E25: чёрный | F25: 1891.89 | H25: =IF(ISBLANK(G25),"",IF(ISNUMBER(F25),ROUND(F25*G25,2),"Укажите цену")) | I25: 1016 | J25: 18.7 | K25: 17*8.7*7.2 | L25: отсутствует | M25: нет данных | N25: 18 | O25: 36*26*27 | P25: 0.025 | Q25: 1. Емкость: 50000mAh 185Wh Номинальная емкость: 27500mAh 2. Вход: USB-C/Micro-USB: 18W 3. Выход: USB-A1/A2: 22.5W (QC/FCP/SCP/AFC). USB-C: 20W (PD/QC/FCP/AFC). Общий выход: 5V/2A 4. Индикация: LED индикатор уровня заряда. 5. Материал: ABS+PC+литий-полимерная батарея 6. Размер: 147 * 70 * 66mm; Вес: 965g | R25: http://gofile.me/649X4/f5dbYGHaV | S25: http://gofile.me/649X4/wxc79O3Gn
A26: BJ79 Clever портативный аккумулятор с 3 кабелями (10000mAh) | D26: 6941991121531 | E26: чёрный | F26: 570.83 | H26: =IF(ISBLANK(G26),"",IF(ISNUMBER(F26),ROUND(F26*G26,2),"Укажите цену")) | I26: 263 | J26: 17.86 | K26: 19.2*8.7*2.2 | L26: отсутствует | M26: нет данных | N26: 66 | O26: 36*26*27 | P26: 0.025 | Q26: 1. Емкость: 10000mAh 37Wh Номинальная емкость: 5500mAh 2. Вход: USB-C/USB-A кабель: 5V/2A 3. Выход: USB-A: 5V/2A. USB-C/IP кабель: 5V/2A. Общий выход: 5V/2A 4. Индикация: LED индикатор уровня заряда. 5. Материал: ABS+PC+литий-полимерная батарея 6. Размер: 146 * 68 * 17mm; Вес: 230g | R26: http://gofile.me/649X4/wJX0lxyt9 | S26: http://gofile.me/649X4/DacVpjEhO
D27: 6941991121548 | E27: белый | F27: 570.83 | H27: =IF(ISBLANK(G27),"",IF(ISNUMBER(F27),ROUND(F27*G27,2),"Укажите цену"))
A28: BJ79A Clever портативный аккумулятор с 3 кабелями (20000mAh) 「Неопасные товары」 | D28: 6941991121555 | E28: чёрный | F28: 888.86 | H28: =IF(ISBLANK(G28),"",IF(ISNUMBER(F28),ROUND(F28*G28,2),"Укажите цену")) | I28: 455 | J28: 19.56 | K28: 19.7*8.7*2.3 | L28: отсутствует | M28: нет данных | N28: 42 | O28: 36*26*27 | P28: 0.025 | Q28: 1. Емкость: 20000mAh 74Wh Номинальная емкость: 11000mAh 2. Вход: USB-C/USB-A кабель: 5V/2A 3. Выход: USB-A: 5V/2A. USB-C/IP кабель: 5V/2A. Общий выход: 5V/2A. 4. Индикация: LED индикатор уровня заряда. 5. Материал: ABS+PC+литий-полимерная батарея 6. Размер: 146 * 69 * 29mm; Вес: 410g | R28: http://gofile.me/649X4/UonFozAof | S28: http://gofile.me/649X4/DacVpjEhO
D29: 6941991121562 | E29: белый | F29: 888.86 | H29: =IF(ISBLANK(G29),"",IF(ISNUMBER(F29),ROUND(F29*G29,2),"Укажите цену"))
A30: BJ79B Clever портативный аккумулятор с 3 кабелями (30000mAh) | D30: 6941991121579 | E30: чёрный | F30: 1198.74 | H30: =IF(ISBLANK(G30),"",IF(ISNUMBER(F30),ROUND(F30*G30,2),"Укажите цену")) | I30: 661 | J30: 20.16 | K30: 17*8.7*4.7 | L30: отсутствует | M30: нет данных | N30: 30 | O30: 36*26*27 | P30: 0.025 | Q30: 1. Емкость: 30000mAh 111Wh Номинальная емкость: 16500mAh 2. Вход: USB-C/USB-A кабель: 5V/2A 3. Выход: USB-A: 5V/2A. USB-C/IP кабель: 5V/2A. Общий выход: 5V/2A. 4. Индикация: LED индикатор уровня заряда. 5. Материал: ABS+PC+литий-полимерная батарея 6. Размер: 146 * 69 * 40mm; Вес: 605g | R30: http://gofile.me/649X4/aTSK1eKWB | S30: http://gofile.me/649X4/DacVpjEhO
A31: BJ79C Clever портативный аккумулятор с 3 кабелями (50000mAh) | D31: 6941991121586 | E31: чёрный | F31: 1859.27 | H31: =IF(ISBLANK(G31),"",IF(ISNUMBER(F31),ROUND(F31*G31,2),"Укажите цену")) | I31: 1033 | J31: 19.1 | K31: 17*8.7*7.2 | L31: отсутствует | M31: нет данных | N31: 18 | O31: 36*26*27 | P31: 0.025 | Q31: 1. Емкость: 50000mAh 185Wh Номинальная емкость: 27500mAh 2. Вход: USB-C/USB-A кабель: 5V/2A 3. Выход: USB-A: 5V/2A. USB-C/IP кабель: 5V/2A. Общий выход: 5V/2A. 4. Индикация: LED индикатор уровня заряда. 5. Материал: ABS+PC+литий-полимерная батарея 6. Размер: 147 * 70 * 66mm; Вес: 965g | R31: http://gofile.me/649X4/WmyrDIAtG | S31: http://gofile.me/649X4/DacVpjEhO
A32: BJ78 Clever портативный аккумулятор (10000mAh) | D32: 6941991121470 | E32: чёрный | F32: 513.75 | H32: =IF(ISBLANK(G32),"",IF(ISNUMBER(F32),ROUND(F32*G32,2),"Укажите цену")) | I32: 261 | J32: 17.63 | K32: 19.4*8.8*2.2 | L32: отсутствует | M32: нет данных | N32: 66 | O32: 36*26*27 | P32: 0.025 | Q32: 1. Емкость: 10000mAh 37Wh Номинальная емкость: 5500mAh 2. Вход: USB-C/Micro-USB: 5V/2A 3. Выход: USB-A1/A2: 5V/2A; Общий выход: 5V/2A 4. Индикация: LED индикатор уровня заряда. 5. Материал: ABS+PC+ литий-полимерная батарея 6. Размер: 146*68*17mm; Вес: 225g | R32: http://gofile.me/649X4/Ceifx4n6C | S32: http://gofile.me/649X4/7qhv5fb30
D33: 6941991121487 | E33: белый | F33: 513.75 | H33: =IF(ISBLANK(G33),"",IF(ISNUMBER(F33),ROUND(F33*G33,2),"Укажите цену"))
A34: BJ78A Clever портативный аккумулятор (20000mAh) 「Неопасные товары」 | D34: 6941991121494 | E34: чёрный | F34: 823.63 | H34: =IF(ISBLANK(G34),"",IF(ISNUMBER(F34),ROUND(F34*G34,2),"Укажите цену")) | I34: 451 | J34: 19.38 | K34: 19.3*8.7*3.3 | L34: отсутствует | M34: нет данных | N34: 42 | O34: 36*26*27 | P34: 0.025 | Q34: 1. Емкость: 20000mAh 74Wh Номинальная емкость: 11000mAh 2. Вход: USB-C/Micro-USB: 5V/2A 3. Выход: USB-A1/A2: 5V/2A. Общий выход: 5V/2A 4. Индикация: LED индикатор уровня заряда. 5. Материал: ABS+PC+литий-полимерная батарея 6. Размер: 146 * 69 * 40mm; Вес: 600g | R34: http://gofile.me/649X4/PlppZ7E1s | S34: http://gofile.me/649X4/7qhv5fb30
D35: 6941991121500 | E35: белый | F35: 823.63 | H35: =IF(ISBLANK(G35),"",IF(ISNUMBER(F35),ROUND(F35*G35,2),"Укажите цену"))
A36: BJ76 Smart портативный аккумулятор с 4 кабелями (10000mAh) | D36: 6941991120046 | E36: чёрный | F36: 627.91 | H36: =IF(ISBLANK(G36),"",IF(ISNUMBER(F36),ROUND(F36*G36,2),"Укажите цену")) | I36: 296 | J36: 18.3 | K36: 19.2*8.7*2.5 | L36: отсутствует | M36: нет данных | N36: 60 | O36: 36*26*27 | P36: 0.025 | Q36: 1. Емкость: 10000mAh 37Wh Номинальная емкость: 5500mAh 2. Вход: Type-C/Micro/USB-A кабель: 5V/2A 3. Выход: Type-C кабель/Micro кабель/USB-A1/USB-A2/Lightning кабель: 5V/2A; общий выход: 5V/2A 4. Индикация: LED индикатор уровня заряда. 5. Материал: ABS+PC огнеупорный+литий-полимерная батарея 6. Размер: 147 * 70 * 20mm; вес: 260g | R36: http://gofile.me/649X4/IUa8fABMB | S36: http://gofile.me/649X4/i3FuILOgM
A37: BJ76A Smart портативный аккумулятор с 4 кабелями (20000mAh) 「Неопасные товары」 | D37: 6941991120053 | E37: чёрный | F37: 945.95 | H37: =IF(ISBLANK(G37),"",IF(ISNUMBER(F37),ROUND(F37*G37,2),"Укажите цену")) | I37: 498 | J37: 19.9 | K37: 19*8.7*3.9 | L37: отсутствует | M37: нет данных | N37: 39 | O37: 36*26*27 | P37: 0.025 | Q37: 1. Емкость: 20000mAh 74Wh Номинальная емкость: 11000mAh 2. Вход: Type-C/Micro/USB-A кабель: 5V/2A 3. Выход: Type-C кабель/Micro кабель/USB-A1/USB-A2/Lightning кабель: 5V/2A; общий выход: 5V/2A 4. Индикация: LED индикатор уровня заряда. 5. Материал: ABS+PC огнеупорный+литий-полимерная батарея 6. Размер: 147 * 70 * 32.5mm; вес: 445g | R37: http://gofile.me/649X4/amyG1ADS9 | S37: http://gofile.me/649X4/i3FuILOgM
A38: BJ66 Magnifico 22.5W+PD20W универсальный портативный аккумулятор(40000mAh) | D38: 6941991115141 | E38: чёрный | F38: 2161 | H38: =IF(ISBLANK(G38),"",IF(ISNUMBER(F38),ROUND(F38*G38,2),"Укажите цену")) | I38: 893 | J38: 14 | K38: 18.1*9.8*9.2 | L38: отсутствует | M38: нет данных | N38: 15 | O38: 31*48*19.8 | P38: 0.029 | Q38: 1. Ёмкость: 40000mAh 148Wh. Номинальная ёмкость: 22000mAh 2. Вход: USB-C: 18W 3. Выход: USB-C: 20W (PD/QC/FCP/AFC). USB-A1/A2: 22.5W（QC/FCP/SFC/AFC). Общий выход: 5V/3A 4. Дисплей: LED цифровой дисплей уровня заряда 5. Материал: ABS+PC+литий-полимерная батарея 6. Размер: 147*76.5*55mm. Вес: 830g | R38: http://gofile.me/649X4/rFp4J8E1r | S38: -
A39: BJ66A Magnifico 22.5W+PD20W универсальный портативный аккумулятор(50000mAh) | D39: 6941991115158 | E39: чёрный | F39: 2527.96 | H39: =IF(ISBLANK(G39),"",IF(ISNUMBER(F39),ROUND(F39*G39,2),"Укажите цену")) | I39: 1083 | J39: 13.6 | K39: 18*9.8*10.3 | L39: отсутствует | M39: нет данных | N39: 12 | O39: 31*42.8*19.8 | P39: 0.026 | Q39: 1. Ёмкость: 50000mAh 185Wh. Номинальная ёмкость: 27500mAh 2. Вход: USB-C: 18W 3. Выход: USB-C: 20W (PD/QC/FCP/AFC). USB-A1/A2: 22.5W（QC/FCP/SFC/AFC). Общий выход: 5V/3A 4. Дисплей: LED цифровой дисплей уровня заряда 5. Материал: ABS+PC+литий-полимерная батарея 6. Размер: 147*77*66mm. Вес: 1020g | R39: http://gofile.me/649X4/W80McUULn | S39: http://gofile.me/649X4/wWD0E43u8
A40: BJ66B Magnifico 22.5W+PD20W универсальный портативный аккумулятор(60000mAh) | D40: 6941991115165 | E40: чёрный | F40: 2894.92 | H40: =IF(ISBLANK(G40),"",IF(ISNUMBER(F40),ROUND(F40*G40,2),"Укажите цену")) | I40: 1284 | J40: 14.7 | K40: 18*12.4*9.8 | L40: отсутствует | M40: нет данных | N40: 11 | O40: 31*48*19.8 | P40: 0.029 | Q40: 1. Ёмкость: 60000mAh 222Wh. Номинальная ёмкость: 33000mAh 2. Вход: USB-C: 18W 3. Выход: USB-C: 20W (PD/QC/FCP/AFC). USB-A1/A2: 22.5W（QC/FCP/SFC/AFC). Общий выход: 5V/3A 4. Дисплей: LED цифровой дисплей уровня заряда 5. Материал: ABS+PC+литий-полимерная батарея 6. Размер: 147*78*68mm. Вес: 1192g | R40: http://gofile.me/649X4/WZVfzcyrk | S40: -
A41: BJ65 High 22.5W+PD20W+4 кабеля портативный аккумулятор (30000mAh) | D41: 6941991122033 | E41: чёрный | F41: 1622.79 | H41: =IF(ISBLANK(G41),"",IF(ISNUMBER(F41),ROUND(F41*G41,2),"Укажите цену")) | I41: 737 | J41: 12.2 | K41: 17.8*10*7.5 | L41: отсутствует | M41: нет данных | N41: 16 | O41: 41.6*31.5*19.5 | P41: 0.026 | Q41: 1. Емкость: 30000mAh 111Wh Номинальная емкость: 18000mAh 2. Вход: USB-C/iP：18W； USB-A кабель: 5V/2A 3. Выход: USB-C：20W（PD/QC/FCP/AFC）； USB-C кабель: 22.5W (QC/SCP/FCC/AFC); USB-A1：22.5W（QC/SCP/FCP/AFC）； USB-A2/IP кабель/Micro кабель: 5V/2A; Общий выход: 5V/2A 4. LED индикатор уровня заряда 5. Материал: ABS+PC огнеупорный корпус+литий-полимерная батарея 6. Размер: 70 * 46 * 152mm; Вес: 670g | R41: http://gofile.me/649X4/DyTriMZTj | S41: http://gofile.me/649X4/mL1kBAxdC
A42: BJ65A High 22.5W+PD20W+4 кабеля портативный аккумулятор (50000mAh) | D42: 6941991122040 | E42: чёрный | F42: 2209.93 | H42: =IF(ISBLANK(G42),"",IF(ISNUMBER(F42),ROUND(F42*G42,2),"Укажите цену")) | I42: 1099 | J42: 14 | K42: 17.8*9.9*9.9 | L42: отсутствует | M42: нет данных | N42: 12 | O42: 41.6*31.5*19.5 | P42: 0.026 | Q42: 1. Емкость: 50000mAh 185Wh Номинальная емкость: 30000mAh 2. Вход: USB-C/iP：18W； USB-A кабель: 5V/2A 3. Выход: USB-C：20W（PD/QC/FCP/AFC）； USB-C кабель: 22.5W (QC/SCP/FCC/AFC); USB-A1：22.5W（QC/SCP/FCP/AFC）； USB-A2/IP кабель/Micro кабель: 5V/2A; Общий выход: 5V/2A 4. LED индикатор уровня заряда 5. Материал: ABS+PC огнеупорный корпус+литий-полимерная батарея 6. Размер: 70 * 70 * 152mm; Вес: 1070g | R42: http://gofile.me/649X4/jygKrfvkA | S42: http://gofile.me/649X4/mL1kBAxdC
...

Sheet Аккумуляторы — перевозка
A2: Аккумуляторы — перевозка
A3: Наименование | B3: Фото товара | C3: Упаковка | D3: Артикул / штрихкод | E3: Цвет | F3: цена | G3: Количество к заказу | H3: Сумма заказа, ₽ | I3: Вес G.W.(г) | J3: Вес большой коробки (кг) | K3: Рзмер индивидуальной упаковки (см) | L3: Кол-во в средней коробке (шт) | M3: Размер средней коробки (см) | N3: Кол-во в большой коробке (шт) | O3: Размер большой коробки (см) | P3: VOLUME (cbm) | Q3: Описание | R3: Сыллка на фото | S3: Ссылка на видео
A4: С сертификатом перевозки опасных грузов
A5: BJ94 Origium PD20W магнитный пауэрбанк (10000mAh)(CCC)(UN) | D5: 6941991130007 | E5: белый | F5: 1070.31 | H5: =IF(ISBLANK(G5),"",IF(ISNUMBER(F5),ROUND(F5*G5,2),"Укажите цену")) | I5: 234 | J5: 14.41 | K5: 19.1*8.5*2.2 | L5: отсутствует | M5: нет данных | N5: 60 | O5: 36*26*27 | P5: 0.025 | Q5: MOQ: один sku 200 шт 1. Емкость: 10000mAh 38.5Wh. Номинальная емкость: 5300mAh. 2. Вход: Type-C: 18W. 3. Выход: Type-C: 20W (PD/QC/FCP/AFC). Выход беспроводной зарядки: 5W/7.5W/10W/15W. Общий выход: 5V/3A. 4. Отображение: светодиодный индикатор уровня заряда. 5. Материал: трудновоспламеняемый корпус ABS+PC + литий-полимерный элемент. 6. Размеры: 101*65*19 мм. Вес: 190 г. | R5: http://gofile.me/649X4/kcwEK02GS | S5: -
A6: BJ91 Alba 22.5W+PD20W 4-cable+lighting power bank(40000mAh)（UN） | D6: 6941991129759 | E6: black | F6: 2163.04 | H6: =IF(ISBLANK(G6),"",IF(ISNUMBER(F6),ROUND(F6*G6,2),"Укажите цену")) | I6: 863 | J6: 13.59 | K6: 17.8*11.5*10.3 | L6: отсутствует | M6: нет данных | N6: 15 | O6: 53.5*36*19.8 | P6: 0.038 | Q6: MOQ: один sku 200 шт 1. Емкость: 40000mAh 128Wh. Номинальная мощность: 20000mAh. 2. Вход: Тип-C1: 18W. Кабель типа C2/USB-A: 5В/2А. 3. Выход: Тип-C1: 20 Вт (PD/QC/FCP/AFC). USB-A: 22,5 Вт (QC/FCP/SCP/AFC). USB-A2/Micro кабель/Type-C кабель/iP кабель: 5V/2A. Общая мощность: 5В / 2А. 4. Дисплей: светодиодный цифровой индикатор уровня батареи. 5. Материал: негорючий корпус ABS+PC. Аккумулятор LiFePO₄. 6. Размеры: 81*66*145мм. Вес: 860г. | R6: http://gofile.me/649X4/iHJZ2RAP9 | S6: -
A7: BJ91A Alba 22.5W+PD20W 4-cable+lighting power bank(60000mAh)（UN） | D7: 6941991129896 | E7: black | F7: 2750.17 | H7: =IF(ISBLANK(G7),"",IF(ISNUMBER(F7),ROUND(F7*G7,2),"Укажите цену")) | I7: 1191 | J7: 15 | K7: 17.8*12.9*11.5 | L7: отсутствует | M7: нет данных | N7: 12 | O7: 53.5*36*19.8 | P7: 0.038 | Q7: MOQ: один sku 200 шт 1. Емкость: 60000mAh 192Wh; Номинальная мощность: 30000mAh 2. Вход: Тип-C1: 18W; Кабель типа C2/USB-A: 5В/2А 3. Выход: Тип-C1: 20W (PD/QC/FCC/AFC); USB-A: 22,5 Вт (QC/FCP/SCP/AFC); USB-A2/Micro кабель/Type-C кабель/IP кабель: 5V/2A; Общая мощность: 5V / 2A 4. Дисплей: светодиодный цифровой дисплей уровня батареи 5. Материал: негорючий корпус ABS+PC. Аккумулятор LiFePO₄. 6. Size: 81 * 91 * 145mm; Вес: 1150г | R7: http://gofile.me/649X4/G5VY1TDUh | S7: -
A8: BJ90 Pasar пауэрбанк (10000mAh)(CCC)（UN） | D8: 6941991129292 | E8: чёрный | F8: 507.63 | H8: =IF(ISBLANK(G8),"",IF(ISNUMBER(F8),ROUND(F8*G8,2),"Укажите цену")) | I8: обновление | J8: обновление | K8: обновление | L8: отсутствует | M8: нет данных | N8: 60 | O8: 36*26*27 | P8: 0.025 | Q8: MOQ: один sku 200 шт 1. Ёмкость: 10000 мА·ч 37 Вт·ч; Номинальная ёмкость: 5300 мА·ч 2. Вход: Micro/Type-C: 5 В/2,1 А 3. Выход: USB1/USB2: 5 В/2,1 А; Общий выход: 5 В/2,1 А 4. Индикация: светодиодный индикатор уровня заряда 5. Материал: ABS+PC+литий-полимерный аккумуляторный элемент 6. Размер: 140 × 67,5 × 16 мм; Вес: 220 г | R8: http://gofile.me/649X4/ZjsiyKRJo | S8: -
A9: BJ89 Salte PD20W портативный аккумулятор с лампой и 2 кабелями (10000mAh)（UN） | D9: 6941991128448 | E9: чёрный | F9: 1045.84 | H9: =IF(ISBLANK(G9),"",IF(ISNUMBER(F9),ROUND(F9*G9,2),"Укажите цену")) | I9: 227 | J9: 10.04 | K9: 18.3*8.7*3.5 | L9: отсутствует | M9: нет данных | N9: 42 | O9: 36*26*27 | P9: 0.025 | Q9: MOQ: один sku 1000 шт 1. Емкость: 10000mAh 38.5Wh; Номинальная емкость: 6000mAh 2. Вход: USB-C: 18W 3. Выход: USB-C/USB-C кабель: 20W (PD/QC/FCC/AFC); IP кабель: 5V/2.4A; Общий выход: 5V/2A 4. Индикация: LED цифровой дисплей уровня заряда 5. Материал: PC+ABS огнеупорный+литий-полимерный аккумулятор 6. Размер: 98 * 50 * 30mm; вес: 185g“ | R9: http://gofile.me/649X4/byd1hUzdy | S9: -
A10: BJ85 Myriad портативный аккумулятор 22.5W+PD20W+лампа (100000mAh)（UN） | D10: 6941991125560 | E10: чёрный | F10: 3810.29 | H10: =IF(ISBLANK(G10),"",IF(ISNUMBER(F10),ROUND(F10*G10,2),"Укажите цену")) | I10: 1963 | J10: 16.41 | K10: 18.5*16.6*10 | L10: отсутствует | M10: нет данных | N10: 8 | O10: 42*34.8*20.2 | P10: 0.03 | Q10: MOQ: один sku 200 шт 1. Емкость: 100000mAh 370Wh Номинальная емкость: 55000mAh 2. Вход: USB-C/Micro/IP: 18W 3. Выход: USB-C: 20W (PD/QC/FCC/AFC); USB-A1/A3：22.5W（QC/FCP/SCP/AFC）； USB-A2/A4：5V/3A； Общий Выход: 5V/2A 4. Дисплей: LED цифровой уровня заряда 5. Материал: ABS+PC+литий-полимерный аккумулятор 6. Размер: 151 * 132 * 66mm; Вес: 1950g | R10: http://gofile.me/649X4/CT2JL9Hyj | S10: -
A11: BJ84 Smooth портативный аккумулятор с 4 кабелями (10000mAh)（UN） | D11: 6941991126161 | E11: чёрный | F11: 532.09 | H11: =IF(ISBLANK(G11),"",IF(ISNUMBER(F11),ROUND(F11*G11,2),"Укажите цену")) | I11: 281 | J11: 12.82 | K11: 20*9.8*2.6 | L11: отсутствует | M11: нет данных | N11: 44 | O11: 36*26*27 | P11: 0.025 | Q11: MOQ: один sku 200 шт 1. Ёмкость: 10000mAh 37Wh Номинальная ёмкость: 5500mAh 2. Вход: USB-C/USB-A кабель: 5V/2A 3. Выход: USB-A: 5V/2A; Micro USB кабель/USB-C кабель/IP кабель: 5V/2A; Общий выход: 5V/2A 4. Индикация: LED индикатор 5. Материал: ABS+PC+литий-полимерная батарея 6. Размер: 147 * 68 * 22mm; Вес: 248g | R11: http://gofile.me/649X4/fgDOPziu6 | S11: -
A12: BJ82A Dawn PD20W магнитный портативный аккумулятор (10000mAh)（UN） | D12: 6941991124808 | E12: чёрный | F12: 1029.53 | H12: =IF(ISBLANK(G12),"",IF(ISNUMBER(F12),ROUND(F12*G12,2),"Укажите цену")) | I12: 236 | J12: 16.07 | K12: 19.3*8.7*2.4 | L12: отсутствует | M12: нет данных | N12: 60 | O12: 36*26*27 | P12: 0.025 | Q12: MOQ: один sku 200 шт 1. Емкость: 10000mAh 38.5Wh Номинальная емкость: 5500mAh 2. Вход: USB-C: 18W 3. Выход: USB-C: 20W (PD/QC/FCC/AFC); Беспроводная зарядка: 5W/7.5W/10W/15W (MagSafe 7.5W); общий выход: 5V/2A 4. Дисплей: LED индикатор 5. Материал: ABS+PC+литий-полимерная батарея 6. Размер: 100 * 69 * 18mm; Вес: 200g | R12: http://gofile.me/649X4/aRs6r4tmy | S12: -
A13: BJ80 Clever 22.5W+PD20W универсальный портативный аккумулятор (10000mAh)（UN） | D13: 6941991121593 | E13: чёрный | F13: 670.72 | H13: =IF(ISBLANK(G13),"",IF(ISNUMBER(F13),ROUND(F13*G13,2),"Укажите цену")) | I13: 262 | J13: 17.7 | K13: 19.4*8.8*2.2 | L13: отсутствует | M13: нет данных | N13: 66 | O13: 36*26*27 | P13: 0.025 | Q13: MOQ: один sku 200 шт 1. Емкость: 10000mAh 37Wh Номинальная емкость: 5500mAh 2. Вход: USB-C/Micro-USB: 18W 3. Выход: USB-A1/A2: 22.5W (QC/FCP/SCP/AFC). USB-C: 20W (PD/QC/FCP/AFC). Общий выход: 5V/2A 4. Индикация: LED индикатор уровня заряда. 5. Материал: ABS+PC+литий-полимерная батарея 6. Размер: 146 * 68 * 17mm; Вес: 230g | R13: http://gofile.me/649X4/nlNOMAaQp | S13: http://gofile.me/649X4/wxc79O3Gn
D14: 6941991121609 | E14: белый | F14: 670.72 | H14: =IF(ISBLANK(G14),"",IF(ISNUMBER(F14),ROUND(F14*G14,2),"Укажите цену"))
A15: BJ80B Clever 22.5W+PD20W универсальный портативный аккумулятор (30000mAh)（UN） | D15: 6941991121630 | E15: чёрный | F15: 1290.48 | H15: =IF(ISBLANK(G15),"",IF(ISNUMBER(F15),ROUND(F15*G15,2),"Укажите цену")) | I15: 653 | J15: 20 | K15: 17*8.8*4.7 | L15: отсутствует | M15: нет данных | N15: 29 | O15: 36*26*27 | P15: 0.025 | Q15: MOQ: один sku 200 шт 1. Емкость: 30000mAh 111Wh Номинальная емкость: 16500mAh 2. Вход: USB-C/Micro USB: 18W 3. Выход: USB-A1/A2:22.5W (QC/FCP/SCP/AFC). USB-C: 20W (PD/QC/FCP/AFC). Общий выход: 5V/2A. 4. Индикация: LED индикатор уровня заряда. 5. Материал: ABS+PC+polymer electronics 6. Размер: 147 * 70 * 66mm Вес: 965г | R15: http://gofile.me/649X4/lkYSknVYS | S15: http://gofile.me/649X4/wxc79O3Gn
A16: BJ80C Clever 22.5W+PD20W универсальный портативный аккумулятор (50000mAh)（UN） | D16: 6941991121654 | E16: чёрный | F16: 1902.08 | H16: =IF(ISBLANK(G16),"",IF(ISNUMBER(F16),ROUND(F16*G16,2),"Укажите цену")) | I16: 1016 | J16: 18.7 | K16: 17*8.7*7.2 | L16: отсутствует | M16: нет данных | N16: 18 | O16: 36*26*27 | P16: 0.025 | Q16: MOQ: один sku 200 шт 1. Емкость: 50000mAh 185Wh Номинальная емкость: 27500mAh 2. Вход: USB-C/Micro-USB: 18W 3. Выход: USB-A1/A2: 22.5W (QC/FCP/SCP/AFC). USB-C: 20W (PD/QC/FCP/AFC). Общий выход: 5V/2A 4. Индикация: LED индикатор уровня заряда. 5. Материал: ABS+PC+литий-полимерная батарея 6. Размер: 147 * 70 * 66mm; Вес: 965g | R16: http://gofile.me/649X4/f5dbYGHaV | S16: http://gofile.me/649X4/wxc79O3Gn
A17: BJ79 Clever портативный аккумулятор с 3 кабелями (10000mAh)（UN） | D17: 6941991121531 | E17: чёрный | F17: 581.02 | H17: =IF(ISBLANK(G17),"",IF(ISNUMBER(F17),ROUND(F17*G17,2),"Укажите цену")) | I17: 263 | J17: 17.86 | K17: 19.2*8.7*2.2 | L17: отсутствует | M17: нет данных | N17: 66 | O17: 36*26*27 | P17: 0.025 | Q17: MOQ: один sku 200 шт 1. Емкость: 10000mAh 37Wh Номинальная емкость: 5500mAh 2. Вход: USB-C/USB-A кабель: 5V/2A 3. Выход: USB-A: 5V/2A. USB-C/IP кабель: 5V/2A. Общий выход: 5V/2A 4. Индикация: LED индикатор уровня заряда. 5. Материал: ABS+PC+литий-полимерная батарея 6. Размер: 146 * 68 * 17mm; Вес: 230g | R17: http://gofile.me/649X4/wJX0lxyt9 | S17: http://gofile.me/649X4/DacVpjEhO
D18: 6941991121548 | E18: белый | F18: 581.02 | H18: =IF(ISBLANK(G18),"",IF(ISNUMBER(F18),ROUND(F18*G18,2),"Укажите цену"))
A19: BJ79B Clever портативный аккумулятор с 3 кабелями (30000mAh)（UN） | D19: 6941991121579 | E19: чёрный | F19: 1208.94 | H19: =IF(ISBLANK(G19),"",IF(ISNUMBER(F19),ROUND(F19*G19,2),"Укажите цену")) | I19: 661 | J19: 20.16 | K19: 17*8.7*4.7 | L19: отсутствует | M19: нет данных | N19: 29 | O19: 36*26*27 | P19: 0.025 | Q19: MOQ: один sku 200 шт 1. Емкость: 30000mAh 111Wh Номинальная емкость: 16500mAh 2. Вход: USB-C/USB-A кабель: 5V/2A 3. Выход: USB-A: 5V/2A. USB-C/IP кабель: 5V/2A. Общий выход: 5V/2A. 4. Индикация: LED индикатор уровня заряда. 5. Материал: ABS+PC+литий-полимерная батарея 6. Размер: 146 * 69 * 40mm; Вес: 605g | R19: http://gofile.me/649X4/aTSK1eKWB | S19: http://gofile.me/649X4/DacVpjEhO
